BEGIN:VCALENDAR
VERSION:2.0
PRODID:-//Tukios.com/
BEGIN:VEVENT
UID:abef382c-4a6e-4964-af3a-b0961acc03d9@www.oakesandnichols.com
DTSTAMP:20260419T130759Z
DTSTART:20260419T180000Z
DTEND:20260419T190000Z
SUMMARY:Visitation
DESCRIPTION:
URL:https://www.oakesandnichols.com/obituaries/gene-holt
LOCATION: 313 6th Avenue  Columbia TN 38401
GEO:35.6251289;-87.0255568
END:VEVENT
END:VCALENDAR