BEGIN:VCALENDAR
VERSION:2.0
PRODID:-//Tukios.com/
BEGIN:VEVENT
UID:767b9e06-b9ff-42cc-b643-a8559883b1f0@www.oakesandnichols.com
DTSTAMP:20260420T212006Z
DTSTART:20260425T180000Z
DTEND:20260425T190000Z
SUMMARY:Visitation
DESCRIPTION:
URL:https://www.oakesandnichols.com/obituaries/john-haskin
LOCATION: 320 West 7th Street  Columbia TN 38401
GEO:35.6159389;-87.0393937
END:VEVENT
END:VCALENDAR