BEGIN:VCALENDAR
VERSION:2.0
PRODID:-//Tukios.com/
BEGIN:VEVENT
UID:90ce26b1-4609-4ba0-b5b1-057e98e82220@www.oakesandnichols.com
DTSTAMP:20260420T212122Z
DTSTART:20260425T193000Z
DTEND:20260425T203000Z
SUMMARY:Graveside Service
DESCRIPTION:
URL:https://www.oakesandnichols.com/obituaries/john-haskin
LOCATION:Scribner’s Mill Cemetery Scribners Mill Road  Culleoka TN 
	38451
GEO:35.499637;-86.9436579
END:VEVENT
END:VCALENDAR