BEGIN:VCALENDAR
VERSION:2.0
PRODID:-//Tukios.com/
BEGIN:VEVENT
UID:35186fd2-fd9c-4542-9c3a-cf5482bc3f05@www.oakesandnichols.com
DTSTAMP:20260424T200307Z
DTSTART:20260427T220000Z
DTEND:20260428T000000Z
SUMMARY:Visitation
DESCRIPTION:
URL:https://www.oakesandnichols.com/obituaries/mary-puckett-sneed
LOCATION: 320 West 7th Street  Columbia TN 38401
GEO:35.6159389;-87.0393937
END:VEVENT
END:VCALENDAR