BEGIN:VCALENDAR
VERSION:2.0
PRODID:-//Tukios.com/
BEGIN:VEVENT
UID:5ba4b76b-daf9-4ac2-87f9-4d93f0a208a6@www.oakesandnichols.com
DTSTAMP:20260424T200707Z
DTSTART:20260428T180000Z
DTEND:20260428T190000Z
SUMMARY:Visitation
DESCRIPTION:
URL:https://www.oakesandnichols.com/obituaries/mary-puckett-sneed
LOCATION: 313 6th Avenue  Columbia TN 38401
GEO:35.6251289;-87.0255568
END:VEVENT
END:VCALENDAR