BEGIN:VCALENDAR
VERSION:2.0
PRODID:-//Tukios.com/
BEGIN:VEVENT
UID:a3708fbc-05e8-44e7-b4c1-1ab7bb14f3de@www.oakesandnichols.com
DTSTAMP:20260424T200307Z
DTSTART:20260428T190000Z
DTEND:20260428T200000Z
SUMMARY:Funeral Service
DESCRIPTION:
URL:https://www.oakesandnichols.com/obituaries/mary-puckett-sneed
LOCATION: 313 6th Avenue  Columbia TN 38401
GEO:35.6251289;-87.0255568
END:VEVENT
END:VCALENDAR