BEGIN:VCALENDAR
VERSION:2.0
PRODID:-//Tukios.com/
BEGIN:VEVENT
UID:7c57c976-b953-4201-8d35-6798bd156bf2@www.oakesandnichols.com
DTSTAMP:20260423T210543Z
DTSTART:20260425T210000Z
DTEND:20260426T010000Z
SUMMARY:Visitation
DESCRIPTION:
URL:https://www.oakesandnichols.com/obituaries/melvin-hindman
LOCATION: 320 West 7th Street  Columbia TN 38401
GEO:35.6159389;-87.0393937
END:VEVENT
END:VCALENDAR